BEGIN:VCALENDAR
CALSCALE:GREGORIAN
METHOD:PUBLISH
PRODID:-//www.safnern.ch//NONSGML iCalcreator 2.4.3//
VERSION:2.0
BEGIN:VEVENT
UID:20260421T155447CEST-2407TEGSpK@www.safnern.ch
DTSTAMP:20260421T135447Z
CATEGORIES:Diverses
DESCRIPTION:[Gemeindeversammlung]\n\nStartdatum: 02.09.2020\nStarzeit: 20:0
 0:00: Uhr\nEnddatum: 02.09.2020\nEndzeit: 22:00:00: Uhr\nOrt: Safnern\nOrg
 anisator: Einwohnergemeinde Safnern\n\nDie Gemeindeversammlung findet aufg
 rund Covid-19 in der Turnhalle des Schulhauses Räbli statt.\n\n\nKlicken 
 Sie auf den folgenden Link\, um weitere Informationen zur Veranstaltung zu
  erhalten\nhttp://www.safnern.ch/de/veranstaltungen/detail.php?i=157
DTEND:20200902T220000
DTSTART:20200902T200000
LOCATION:Safnern
SUMMARY:Gemeindeversammlung
END:VEVENT
END:VCALENDAR
